BEGIN:VCALENDAR
VERSION:2.0
PRODID:-//Welcome to Holly Springs - ECPv5.14.1//NONSGML v1.0//EN
CALSCALE:GREGORIAN
METHOD:PUBLISH
X-WR-CALNAME:Welcome to Holly Springs
X-ORIGINAL-URL:https://visithollysprings.com
X-WR-CALDESC:Events for Welcome to Holly Springs
BEGIN:VTIMEZONE
TZID:America/Chicago
BEGIN:DAYLIGHT
TZOFFSETFROM:-0600
TZOFFSETTO:-0500
TZNAME:CDT
DTSTART:20210314T080000
END:DAYLIGHT
BEGIN:STANDARD
TZOFFSETFROM:-0500
TZOFFSETTO:-0600
TZNAME:CST
DTSTART:20211107T070000
END:STANDARD
END:VTIMEZONE
BEGIN:VEVENT
DTSTART;VALUE=DATE:20210807
DTEND;VALUE=DATE:20210808
DTSTAMP:20260421T031329
CREATED:20210720T152255Z
LAST-MODIFIED:20210720T152255Z
UID:1370-1628294400-1628380799@visithollysprings.com
SUMMARY:1st Annual Hood Reform Summer Jam
DESCRIPTION:
URL:https://visithollysprings.com/event/1st-annual-hood-reform-summer-jam/
END:VEVENT
END:VCALENDAR