BEGIN:VCALENDAR
VERSION:2.0
PRODID:-//Welcome to Holly Springs - ECPv5.14.1//NONSGML v1.0//EN
CALSCALE:GREGORIAN
METHOD:PUBLISH
X-WR-CALNAME:Welcome to Holly Springs
X-ORIGINAL-URL:https://visithollysprings.com
X-WR-CALDESC:Events for Welcome to Holly Springs
BEGIN:VTIMEZONE
TZID:America/Chicago
BEGIN:DAYLIGHT
TZOFFSETFROM:-0600
TZOFFSETTO:-0500
TZNAME:CDT
DTSTART:20200308T080000
END:DAYLIGHT
BEGIN:STANDARD
TZOFFSETFROM:-0500
TZOFFSETTO:-0600
TZNAME:CST
DTSTART:20201101T070000
END:STANDARD
END:VTIMEZONE
BEGIN:VEVENT
DTSTART;VALUE=DATE:20201205
DTEND;VALUE=DATE:20201206
DTSTAMP:20260423T085146
CREATED:20191223T045841Z
LAST-MODIFIED:20191223T045841Z
UID:843-1607126400-1607212799@visithollysprings.com
SUMMARY:Holly Springs Annual Christmas Parade
DESCRIPTION:For more information call (662) 252-2943 \nwww.hollyspringsms.org
URL:https://visithollysprings.com/event/holly-springs-annual-christmas-parade-2/
END:VEVENT
END:VCALENDAR