BEGIN:VCALENDAR
VERSION:2.0
PRODID:-//Welcome to Holly Springs - ECPv5.14.1//NONSGML v1.0//EN
CALSCALE:GREGORIAN
METHOD:PUBLISH
X-WR-CALNAME:Welcome to Holly Springs
X-ORIGINAL-URL:https://visithollysprings.com
X-WR-CALDESC:Events for Welcome to Holly Springs
BEGIN:VTIMEZONE
TZID:America/Chicago
BEGIN:DAYLIGHT
TZOFFSETFROM:-0600
TZOFFSETTO:-0500
TZNAME:CDT
DTSTART:20210314T080000
END:DAYLIGHT
BEGIN:STANDARD
TZOFFSETFROM:-0500
TZOFFSETTO:-0600
TZNAME:CST
DTSTART:20211107T070000
END:STANDARD
END:VTIMEZONE
BEGIN:VEVENT
DTSTART;TZID=America/Chicago:20210807T080000
DTEND;TZID=America/Chicago:20210808T170000
DTSTAMP:20260421T044813
CREATED:20210111T155915Z
LAST-MODIFIED:20210720T152223Z
UID:1285-1628323200-1628442000@visithollysprings.com
SUMMARY:Kirkwood National Golf Club & Cottages Mixed Couples Golf Tournament
DESCRIPTION:
URL:https://visithollysprings.com/event/kirkwood-national-golf-club-cottages-mixed-couples-golf-tournament-2/
END:VEVENT
END:VCALENDAR