BEGIN:VCALENDAR
VERSION:2.0
PRODID:-//Welcome to Holly Springs - ECPv5.14.1//NONSGML v1.0//EN
CALSCALE:GREGORIAN
METHOD:PUBLISH
X-WR-CALNAME:Welcome to Holly Springs
X-ORIGINAL-URL:https://visithollysprings.com
X-WR-CALDESC:Events for Welcome to Holly Springs
BEGIN:VTIMEZONE
TZID:America/Chicago
BEGIN:DAYLIGHT
TZOFFSETFROM:-0600
TZOFFSETTO:-0500
TZNAME:CDT
DTSTART:20210314T080000
END:DAYLIGHT
BEGIN:STANDARD
TZOFFSETFROM:-0500
TZOFFSETTO:-0600
TZNAME:CST
DTSTART:20211107T070000
END:STANDARD
END:VTIMEZONE
BEGIN:VEVENT
DTSTART;TZID=America/Chicago:20210605T100000
DTEND;TZID=America/Chicago:20210605T170000
DTSTAMP:20260422T051833
CREATED:20210526T032747Z
LAST-MODIFIED:20210526T032747Z
UID:1339-1622887200-1622912400@visithollysprings.com
SUMMARY:Pop Up Shop
DESCRIPTION:
URL:https://visithollysprings.com/event/pop-up-shop/
LOCATION:Pavillion Banquet Hall\, 1063 Hwy 7 South\, Holly Springs\, MS\, 38635\, United States
END:VEVENT
END:VCALENDAR